BEGIN:VCALENDAR
VERSION:2.0
PRODID:-//Lake County Ca Alcoholics Anonymous - ECPv6.15.20//NONSGML v1.0//EN
CALSCALE:GREGORIAN
METHOD:PUBLISH
X-ORIGINAL-URL:https://lakecountycaaa.com
X-WR-CALDESC:Events for Lake County Ca Alcoholics Anonymous
REFRESH-INTERVAL;VALUE=DURATION:PT1H
X-Robots-Tag:noindex
X-PUBLISHED-TTL:PT1H
BEGIN:VTIMEZONE
TZID:America/Los_Angeles
BEGIN:DAYLIGHT
TZOFFSETFROM:-0800
TZOFFSETTO:-0700
TZNAME:PDT
DTSTART:20230312T100000
END:DAYLIGHT
BEGIN:STANDARD
TZOFFSETFROM:-0700
TZOFFSETTO:-0800
TZNAME:PST
DTSTART:20231105T090000
END:STANDARD
BEGIN:DAYLIGHT
TZOFFSETFROM:-0800
TZOFFSETTO:-0700
TZNAME:PDT
DTSTART:20240310T100000
END:DAYLIGHT
BEGIN:STANDARD
TZOFFSETFROM:-0700
TZOFFSETTO:-0800
TZNAME:PST
DTSTART:20241103T090000
END:STANDARD
BEGIN:DAYLIGHT
TZOFFSETFROM:-0800
TZOFFSETTO:-0700
TZNAME:PDT
DTSTART:20250309T100000
END:DAYLIGHT
BEGIN:STANDARD
TZOFFSETFROM:-0700
TZOFFSETTO:-0800
TZNAME:PST
DTSTART:20251102T090000
END:STANDARD
END:VTIMEZONE
BEGIN:VEVENT
DTSTART;TZID=America/Los_Angeles:20240511T080000
DTEND;TZID=America/Los_Angeles:20240511T173000
DTSTAMP:20260420T000916
CREATED:20240428T003348Z
LAST-MODIFIED:20240428T003436Z
UID:2994-1715414400-1715448600@lakecountycaaa.com
SUMMARY:2024 Post Conference Assembly
DESCRIPTION:Also: Zoom ID: 632 553 607 | Password: 1935 \nRegistration 8:00 – 8:45 am\nOrientation 8:45 – 9:00 am\nArea Business Meeting 9:00 am – 12:00 pm\nLunch 12:00 – 1:00 pm\nPanel on Conference Theme 1:00 – 2:00 pm\nDelegate’s Report 2:00 – 3:30 pm\nQuestions and Answers 3:30 – 4:30 pm\nWhat’s on Your Mind? 4:45 – 5:30 pm
URL:https://lakecountycaaa.com/event/2024-post-conference-assembly/
LOCATION:Willits Community Center\, 111 E. Commercial St\, Willits\, CA\, 95490\, United States
END:VEVENT
END:VCALENDAR