BEGIN:VCALENDAR
VERSION:2.0
PRODID:-//Lake County Ca Alcoholics Anonymous - ECPv6.15.20//NONSGML v1.0//EN
CALSCALE:GREGORIAN
METHOD:PUBLISH
X-ORIGINAL-URL:https://lakecountycaaa.com
X-WR-CALDESC:Events for Lake County Ca Alcoholics Anonymous
REFRESH-INTERVAL;VALUE=DURATION:PT1H
X-Robots-Tag:noindex
X-PUBLISHED-TTL:PT1H
BEGIN:VTIMEZONE
TZID:America/Los_Angeles
BEGIN:DAYLIGHT
TZOFFSETFROM:-0800
TZOFFSETTO:-0700
TZNAME:PDT
DTSTART:20230312T100000
END:DAYLIGHT
BEGIN:STANDARD
TZOFFSETFROM:-0700
TZOFFSETTO:-0800
TZNAME:PST
DTSTART:20231105T090000
END:STANDARD
BEGIN:DAYLIGHT
TZOFFSETFROM:-0800
TZOFFSETTO:-0700
TZNAME:PDT
DTSTART:20240310T100000
END:DAYLIGHT
BEGIN:STANDARD
TZOFFSETFROM:-0700
TZOFFSETTO:-0800
TZNAME:PST
DTSTART:20241103T090000
END:STANDARD
BEGIN:DAYLIGHT
TZOFFSETFROM:-0800
TZOFFSETTO:-0700
TZNAME:PDT
DTSTART:20250309T100000
END:DAYLIGHT
BEGIN:STANDARD
TZOFFSETFROM:-0700
TZOFFSETTO:-0800
TZNAME:PST
DTSTART:20251102T090000
END:STANDARD
BEGIN:DAYLIGHT
TZOFFSETFROM:-0800
TZOFFSETTO:-0700
TZNAME:PDT
DTSTART:20260308T100000
END:DAYLIGHT
BEGIN:STANDARD
TZOFFSETFROM:-0700
TZOFFSETTO:-0800
TZNAME:PST
DTSTART:20261101T090000
END:STANDARD
BEGIN:DAYLIGHT
TZOFFSETFROM:-0800
TZOFFSETTO:-0700
TZNAME:PDT
DTSTART:20270314T100000
END:DAYLIGHT
BEGIN:STANDARD
TZOFFSETFROM:-0700
TZOFFSETTO:-0800
TZNAME:PST
DTSTART:20271107T090000
END:STANDARD
END:VTIMEZONE
BEGIN:VEVENT
DTSTART;TZID=America/Los_Angeles:20240905T173000
DTEND;TZID=America/Los_Angeles:20240905T183000
DTSTAMP:20260419T223044
CREATED:20230417T032209Z
LAST-MODIFIED:20240821T123541Z
UID:1878-1725557400-1725561000@lakecountycaaa.com
SUMMARY:Unity Day Planning Meeting
DESCRIPTION:ZOOM ID: 82352647163  \n\nPW: 966644 \n  \nCome help us plan Unity Day and be of service. \n 
URL:https://lakecountycaaa.com/event/aa-events-planning-meeting/
LOCATION:ZOOM
END:VEVENT
BEGIN:VEVENT
DTSTART;TZID=America/Los_Angeles:20240921T100000
DTEND;TZID=America/Los_Angeles:20240921T140000
DTSTAMP:20260419T223044
CREATED:20230811T151813Z
LAST-MODIFIED:20240823T125613Z
UID:2336-1726912800-1726927200@lakecountycaaa.com
SUMMARY:Recovery Happens 2024
DESCRIPTION:Recovery speakers\, raffle prizes\, lunch and a recovery walk.
URL:https://lakecountycaaa.com/event/recovery-happens-2023/
LOCATION:Austin Park\, 14077 Lakeshore Dr\, Clearlake\, 95422\, United States
ATTACH;FMTTYPE=image/jpeg:https://lakecountycaaa.com/wp-content/uploads/2024/08/Recovery-Happens-2024-Flyer.jpg
END:VEVENT
BEGIN:VEVENT
DTSTART;TZID=America/Los_Angeles:20241004T140000
DTEND;TZID=America/Los_Angeles:20241006T130000
DTSTAMP:20260419T223044
CREATED:20240726T153507Z
LAST-MODIFIED:20240726T153901Z
UID:3072-1728050400-1728219600@lakecountycaaa.com
SUMMARY:NCCAA 75th Annual Fall Conference
DESCRIPTION:Northern California Council of Alcoholics Anonymous \nCelebrating 75 years of Conferences! \nSacramento\, CA \nREGISTRATION
URL:https://lakecountycaaa.com/event/nccaa-75th-annual-fall-conference/
LOCATION:Wyndham Sacramento\, 5321 Date Avenue\, Sacramento\, CA\, 95841\, United States
ATTACH;FMTTYPE=application/pdf:https://lakecountycaaa.com/wp-content/uploads/2024/07/Sacramento2024FlyerwHotel-1.pdf
END:VEVENT
BEGIN:VEVENT
DTSTART;TZID=America/Los_Angeles:20241006T110000
DTEND;TZID=America/Los_Angeles:20241006T160000
DTSTAMP:20260419T223044
CREATED:20230913T152353Z
LAST-MODIFIED:20240821T133622Z
UID:2389-1728212400-1728230400@lakecountycaaa.com
SUMMARY:Unity Day 2024
DESCRIPTION:Join us for the 2024 Unity Day at the Lake.  Lots of fun\, fellowship and food.
URL:https://lakecountycaaa.com/event/unity-day-2023/
LOCATION:Galilee Lutheran Church\, 8860 Soda Bay Rd\, Kelseyville\, CA\, 95451\, United States
END:VEVENT
BEGIN:VEVENT
DTSTART;TZID=America/Los_Angeles:20250125T093000
DTEND;TZID=America/Los_Angeles:20250125T140000
DTSTAMP:20260419T223044
CREATED:20250111T205258Z
LAST-MODIFIED:20250111T205258Z
UID:3263-1737797400-1737813600@lakecountycaaa.com
SUMMARY:Inter-District Workshop
DESCRIPTION:Registration  9:30 – 10:00 \nWorkshop    10:00 – 2:00 \nSandwiches and chips will be provided\, please bring a dish to share. \n 
URL:https://lakecountycaaa.com/event/inter-district-workshop/
LOCATION:Galilee Lutheran Church\, 8860 Soda Bay Rd\, Kelseyville\, CA\, 95451\, United States
END:VEVENT
BEGIN:VEVENT
DTSTART;VALUE=DATE:20250307
DTEND;VALUE=DATE:20250310
DTSTAMP:20260419T223044
CREATED:20230730T234837Z
LAST-MODIFIED:20240903T133224Z
UID:2272-1741305600-1741564799@lakecountycaaa.com
SUMMARY:PRAASA 2025
DESCRIPTION:REGISTRATION HERE \nThe Pacific Region Alcoholics Anonymous Service Assembly (PRAASA) will be held at the Alaska Convention Center March 7-9\, 2025. \nThe purpose of PRAASA is to: \nDevelop greater unity among the members\, groups\, and areas of the Pacific Region.\nEncourage the exchange of ideas and experiences.\nProvide an opportunity for members to discuss pertinent aspects of Alcoholics Anonymous.\nThe Assembly and the PRAASA Committee should always foster the Recovery\, Unity and Service legacies of Alcoholics Anonymous. \n 
URL:https://lakecountycaaa.com/event/praasa-2024/
LOCATION:Alaska Convention Center\, 555 W. Fifth Avenue\, Anchorage\, AK\, 99501\, United States
ATTACH;FMTTYPE=image/png:https://lakecountycaaa.com/wp-content/uploads/2023/07/PRAASA-2025-Logo-300x300-1.png
END:VEVENT
BEGIN:VEVENT
DTSTART;TZID=America/Los_Angeles:20250412T140000
DTEND;TZID=America/Los_Angeles:20250412T170000
DTSTAMP:20260419T223044
CREATED:20250408T035445Z
LAST-MODIFIED:20250408T035445Z
UID:3307-1744466400-1744477200@lakecountycaaa.com
SUMMARY:Founders Day Planning Meeting
DESCRIPTION:The meeting is online via Zoom \nZoom ID: 82352647163 \nPW: 96664
URL:https://lakecountycaaa.com/event/founders-day-planning-meeting/
LOCATION:ZOOM
END:VEVENT
BEGIN:VEVENT
DTSTART;TZID=America/Los_Angeles:20250510T140000
DTEND;TZID=America/Los_Angeles:20250510T150000
DTSTAMP:20260419T223044
CREATED:20250415T015907Z
LAST-MODIFIED:20250415T015914Z
UID:3330-1746885600-1746889200@lakecountycaaa.com
SUMMARY:Founders Day Planning Committee Meeting # 3
DESCRIPTION:This meeting is on Zoom \nMeeting ID: 823 5264716 \nPass Code:   966644
URL:https://lakecountycaaa.com/event/founders-day-planning-committee-meeting-3/
LOCATION:CA
END:VEVENT
BEGIN:VEVENT
DTSTART;TZID=America/Los_Angeles:20250607T110000
DTEND;TZID=America/Los_Angeles:20250607T160000
DTSTAMP:20260419T223044
CREATED:20250408T035811Z
LAST-MODIFIED:20250408T035811Z
UID:3310-1749294000-1749312000@lakecountycaaa.com
SUMMARY:Founders Day Softball and BBQ Picnic
DESCRIPTION:Founders Day Softball and BBQ Picnic
URL:https://lakecountycaaa.com/event/founders-day-softball-and-bbq-picnic/
LOCATION:CA
END:VEVENT
BEGIN:VEVENT
DTSTART;VALUE=DATE:20250703
DTEND;VALUE=DATE:20250707
DTSTAMP:20260419T223044
CREATED:20240821T134533Z
LAST-MODIFIED:20240821T135005Z
UID:3131-1751500800-1751846399@lakecountycaaa.com
SUMMARY:AA 2025 International Convention
DESCRIPTION:Taking place once every five years\, the A.A. International Convention marks the anniversary of Bill W.’s first meeting with Dr. Bob and the birth of Alcoholics Anonymous in 1935. A.A. members and their families and friends from around the globe attend the event. \nThe International Convention will take place from July 3 – 6\, 2025\, at the Vancouver Convention Centre and BC Place Stadium. \nRegistration opens September 10\, 2024 \n 
URL:https://lakecountycaaa.com/event/aa-2025-international-convention/
LOCATION:Vancouver Convention Centre
END:VEVENT
BEGIN:VEVENT
DTSTART;TZID=America/Los_Angeles:20250718T130000
DTEND;TZID=America/Los_Angeles:20250720T130000
DTSTAMP:20260419T223044
CREATED:20230416T155025Z
LAST-MODIFIED:20250516T014555Z
UID:1862-1752843600-1753016400@lakecountycaaa.com
SUMMARY:Soberfest
DESCRIPTION:  \n 
URL:https://lakecountycaaa.com/event/soberfest/
LOCATION:Pine Grove Resort – Cobb\, 15960 Bottle Rock Rd\, Cobb\, CA\, 95426\, United States
END:VEVENT
BEGIN:VEVENT
DTSTART;TZID=America/Los_Angeles:20251018T100000
DTEND;TZID=America/Los_Angeles:20251018T150000
DTSTAMP:20260419T223044
CREATED:20251001T034405Z
LAST-MODIFIED:20251001T034421Z
UID:3480-1760781600-1760799600@lakecountycaaa.com
SUMMARY:Lake County Unity Day
DESCRIPTION:Join Lake County recovery! Don’t miss it! \nSpeaker – Raffles – Lunch \nExplore service opportunities with onsite representatives.
URL:https://lakecountycaaa.com/event/lake-county-unity-day/
LOCATION:Galilee Lutheran Church\, 8860 Soda Bay Rd\, Kelseyville\, CA\, 95451\, United States
END:VEVENT
BEGIN:VEVENT
DTSTART;TZID=America/Los_Angeles:20251225T090000
DTEND;TZID=America/Los_Angeles:20251225T190000
DTSTAMP:20260419T223044
CREATED:20251214T185423Z
LAST-MODIFIED:20251214T185423Z
UID:3513-1766653200-1766689200@lakecountycaaa.com
SUMMARY:Christmas Day Meeting Marathon and Potluck
DESCRIPTION:Come on out to the Lakeport Fellowship on Christmas Day for a potluck and a marathon of meetings. \nWhen: Christmas Day\, December 25th \nWhere:  Lakeport Fellowship – 923 Parallel Dr #6\, Lakeport\, CA 95453 \n  \nMeetings are 9 and 10:30 am. Noon\, 3\, 4:30\, and 6 pm. \nPotluck is from 1:15 to 3 pm – bring a dish if you can \n 
URL:https://lakecountycaaa.com/event/christmas-day-meeting-marathon-and-potluck/
LOCATION:Lakeport Fellowship\, 832 Lakeport Blvd\, Lakeport\, CA\, 95453\, United States
END:VEVENT
BEGIN:VEVENT
DTSTART;TZID=America/Los_Angeles:20260102T180000
DTEND;TZID=America/Los_Angeles:20260102T220000
DTSTAMP:20260419T223044
CREATED:20251214T181150Z
LAST-MODIFIED:20251214T185950Z
UID:3506-1767376800-1767391200@lakecountycaaa.com
SUMMARY:New Years Eve Celebration
DESCRIPTION:Join us for a fun evening as we celebrate sobriety. fellowship\, and a fresh start to the new year. \nHosted by the Free at Last Group \nLucerne Alpine Senior Center \n3985 Country CLub Drive\, Lucerne\, Ca  95458 \n6:oo – 7:00 PM   Inspiring talk by Kelly \n7:00 PM  Tacos with all the fixin’s \n7:30 – 10:00 PM  Live music by The Fargo Brothers
URL:https://lakecountycaaa.com/event/new-years-eve-celebration/
LOCATION:Lucerne Alpine Senior Center\, 3985 Country CLub Drive\, Lucerne\, CA\, 95458
END:VEVENT
BEGIN:VEVENT
DTSTART;TZID=America/Los_Angeles:20260114T170000
DTEND;TZID=America/Los_Angeles:20260114T190000
DTSTAMP:20260419T223044
CREATED:20251218T020259Z
LAST-MODIFIED:20251218T020259Z
UID:3520-1768410000-1768417200@lakecountycaaa.com
SUMMARY:LCI Intergroup's Annual Pizza Party and Elections Day
DESCRIPTION:Wednesday\, January 14th 2026 @ 5:00pm\nGalilee Lutheran Church\n8860 Soda Bay Road\, Kelseyville\, CA\nZoom Meeting ID: 895 4644 3212 Password: 656812 \nIntergroup’s regular business meetings meet the\n2nd Wednesday of each month virtually and physically @ 5:30pm \n● Come celebrate the continued service we provide to Lake\nCounty AA with an in-person (or Zoom) meeting to receive\nfellowship\, pizza\, and a potluck of treats. \n● We will be holding elections for our trusted positions of\nTreasurer (2-year sobriety requirement)\, Hotline coordinator (6\nmonths sobriety req)\, Meeting Schedule updater\, and print\ncollector (zero sobriety req and computer literate)\, Special\nevents (6 months sobriety requirement)\, Soberfest liaison (zero\nsobriety req)\, and a new position “Happy Gophers” for East and\nWest of the lake (zero sobriety requirements)
URL:https://lakecountycaaa.com/event/lci-intergroups-annual-pizza-party-and-elections-day/
LOCATION:Galilee Lutheran Church\, 8860 Soda Bay Rd\, Kelseyville\, CA\, 95451\, United States
END:VEVENT
BEGIN:VEVENT
DTSTART;TZID=America/Los_Angeles:20260425T101500
DTEND;TZID=America/Los_Angeles:20260425T113000
DTSTAMP:20260419T223044
CREATED:20250613T173025Z
LAST-MODIFIED:20260412T215022Z
UID:3401-1777112100-1777116600@lakecountycaaa.com
SUMMARY:Soberfest Planning Meeting
DESCRIPTION:Lakeport Fellowship Hall 832 Lakeport Blvd\, Lakeport\, CA 95453
URL:https://lakecountycaaa.com/event/soberfest-planning-meeting-2/
LOCATION:CA
END:VEVENT
BEGIN:VEVENT
DTSTART;TZID=America/Los_Angeles:20260502T140000
DTEND;TZID=America/Los_Angeles:20260502T150000
DTSTAMP:20260419T223044
CREATED:20230206T180803Z
LAST-MODIFIED:20260412T215423Z
UID:1291-1777730400-1777734000@lakecountycaaa.com
SUMMARY:Picnic Crew Meeting
DESCRIPTION:Via Zoom:  895 4644 3212  pw: 656812 \n 
URL:https://lakecountycaaa.com/event/soberfest-planning-meeting/
LOCATION:ZOOM
END:VEVENT
END:VCALENDAR